BEGIN:VCALENDAR
VERSION:2.0
PRODID:-//The American University of Iraq – Baghdad (AUIB) - ECPv6.15.20//NONSGML v1.0//EN
CALSCALE:GREGORIAN
METHOD:PUBLISH
X-ORIGINAL-URL:https://auib.edu.iq
X-WR-CALDESC:Events for The American University of Iraq – Baghdad (AUIB)
REFRESH-INTERVAL;VALUE=DURATION:PT1H
X-Robots-Tag:noindex
X-PUBLISHED-TTL:PT1H
BEGIN:VTIMEZONE
TZID:Asia/Baghdad
BEGIN:STANDARD
TZOFFSETFROM:+0300
TZOFFSETTO:+0300
TZNAME:+03
DTSTART:20240101T000000
END:STANDARD
END:VTIMEZONE
BEGIN:VEVENT
DTSTART;VALUE=DATE:20250316
DTEND;VALUE=DATE:20250317
DTSTAMP:20260423T164246
CREATED:20241021T132331Z
LAST-MODIFIED:20241021T132331Z
UID:7506-1742083200-1742169599@auib.edu.iq
SUMMARY:First day of ASP and EFP classes
DESCRIPTION:
URL:https://auib.edu.iq/event/first-day-of-asp-and-efp-classes/
CATEGORIES:Academic Calendar
END:VEVENT
END:VCALENDAR