BEGIN:VCALENDAR
VERSION:2.0
PRODID:-//The American University of Iraq – Baghdad (AUIB) - ECPv6.15.20//NONSGML v1.0//EN
CALSCALE:GREGORIAN
METHOD:PUBLISH
X-ORIGINAL-URL:https://auib.edu.iq
X-WR-CALDESC:Events for The American University of Iraq – Baghdad (AUIB)
REFRESH-INTERVAL;VALUE=DURATION:PT1H
X-Robots-Tag:noindex
X-PUBLISHED-TTL:PT1H
BEGIN:VTIMEZONE
TZID:Asia/Baghdad
BEGIN:STANDARD
TZOFFSETFROM:+0300
TZOFFSETTO:+0300
TZNAME:+03
DTSTART:20230101T000000
END:STANDARD
END:VTIMEZONE
BEGIN:VEVENT
DTSTART;TZID=Asia/Baghdad:20241208T080000
DTEND;TZID=Asia/Baghdad:20241215T170000
DTSTAMP:20260420T152932
CREATED:20240624T160054Z
LAST-MODIFIED:20240624T160054Z
UID:4419-1733644800-1734282000@auib.edu.iq
SUMMARY:Fall term final examination period
DESCRIPTION:
URL:https://auib.edu.iq/event/fall-term-final-examination-period-2/
CATEGORIES:Academic Calendar
END:VEVENT
BEGIN:VEVENT
DTSTART;VALUE=DATE:20241212
DTEND;VALUE=DATE:20241213
DTSTAMP:20260420T152932
CREATED:20241021T132004Z
LAST-MODIFIED:20241021T132004Z
UID:7504-1733961600-1734047999@auib.edu.iq
SUMMARY:Last day of ASP and EFP classes
DESCRIPTION:
URL:https://auib.edu.iq/event/last-day-of-asp-and-efp-classes/
CATEGORIES:Academic Calendar
END:VEVENT
END:VCALENDAR