BEGIN:VCALENDAR
VERSION:2.0
PRODID:-//The American University of Iraq – Baghdad (AUIB) - ECPv6.15.20//NONSGML v1.0//EN
CALSCALE:GREGORIAN
METHOD:PUBLISH
X-ORIGINAL-URL:https://auib.edu.iq
X-WR-CALDESC:Events for The American University of Iraq – Baghdad (AUIB)
REFRESH-INTERVAL;VALUE=DURATION:PT1H
X-Robots-Tag:noindex
X-PUBLISHED-TTL:PT1H
BEGIN:VTIMEZONE
TZID:Asia/Baghdad
BEGIN:STANDARD
TZOFFSETFROM:+0300
TZOFFSETTO:+0300
TZNAME:+03
DTSTART:20240101T000000
END:STANDARD
END:VTIMEZONE
BEGIN:VEVENT
DTSTART;VALUE=DATE:20251012
DTEND;VALUE=DATE:20251017
DTSTAMP:20260423T163142
CREATED:20250729T233740Z
LAST-MODIFIED:20250729T233740Z
UID:9594-1760227200-1760659199@auib.edu.iq
SUMMARY:ASP/EFP final exam week
DESCRIPTION:
URL:https://auib.edu.iq/event/asp-efp-final-exam-week/
CATEGORIES:Academic Calendar
END:VEVENT
END:VCALENDAR