BEGIN:VCALENDAR
VERSION:2.0
PRODID:-//The American University of Iraq – Baghdad (AUIB) - ECPv6.15.20//NONSGML v1.0//EN
CALSCALE:GREGORIAN
METHOD:PUBLISH
X-WR-CALNAME:The American University of Iraq – Baghdad (AUIB)
X-ORIGINAL-URL:https://auib.edu.iq/ar/
X-WR-CALDESC:Events for The American University of Iraq – Baghdad (AUIB)
REFRESH-INTERVAL;VALUE=DURATION:PT1H
X-Robots-Tag:noindex
X-PUBLISHED-TTL:PT1H
BEGIN:VTIMEZONE
TZID:Asia/Baghdad
BEGIN:STANDARD
TZOFFSETFROM:+0300
TZOFFSETTO:+0300
TZNAME:+03
DTSTART:20240101T000000
END:STANDARD
END:VTIMEZONE
BEGIN:VEVENT
DTSTART;VALUE=DATE:20250601
DTEND;VALUE=DATE:20250602
DTSTAMP:20260419T174536
CREATED:20240624T161929Z
LAST-MODIFIED:20240624T161929Z
UID:5920-1748736000-1748822399@auib.edu.iq
SUMMARY:اليوم الأول من الفصل الدراسي الصيفي (بدء الدراسة)
DESCRIPTION:
URL:https://auib.edu.iq/ar/event/%d8%a7%d9%84%d9%8a%d9%88%d9%85-%d8%a7%d9%84%d8%a3%d9%88%d9%84-%d9%85%d9%86-%d8%a7%d9%84%d9%81%d8%b5%d9%84-%d8%a7%d9%84%d8%af%d8%b1%d8%a7%d8%b3%d9%8a-%d8%a7%d9%84%d8%b5%d9%8a%d9%81%d9%8a-%d8%a8%d8%af/
CATEGORIES:التقويم الأكاديمي
END:VEVENT
BEGIN:VEVENT
DTSTART;TZID=Asia/Baghdad:20250606T080000
DTEND;TZID=Asia/Baghdad:20250609T170000
DTSTAMP:20260419T174536
CREATED:20240624T161951Z
LAST-MODIFIED:20240624T161951Z
UID:5929-1749196800-1749488400@auib.edu.iq
SUMMARY:عيد الأضحى (الجامعة مغلقة)
DESCRIPTION:
URL:https://auib.edu.iq/ar/event/%d8%b9%d9%8a%d8%af-%d8%a7%d9%84%d8%a3%d8%b6%d8%ad%d9%89-%d8%a7%d9%84%d8%ac%d8%a7%d9%85%d8%b9%d8%a9-%d9%85%d8%ba%d9%84%d9%82%d8%a9/
CATEGORIES:التقويم الأكاديمي
END:VEVENT
BEGIN:VEVENT
DTSTART;VALUE=DATE:20250615
DTEND;VALUE=DATE:20250616
DTSTAMP:20260419T174536
CREATED:20240624T162016Z
LAST-MODIFIED:20240624T162016Z
UID:5928-1749945600-1750031999@auib.edu.iq
SUMMARY:آخر يوم لإضافة/إسقاط مقرر دراسي (UG)
DESCRIPTION:
URL:https://auib.edu.iq/ar/event/%d8%a2%d8%ae%d8%b1-%d9%8a%d9%88%d9%85-%d9%84%d8%a5%d8%b6%d8%a7%d9%81%d8%a9-%d8%a5%d8%b3%d9%82%d8%a7%d8%b7-%d9%85%d9%82%d8%b1%d8%b1-%d8%af%d8%b1%d8%a7%d8%b3%d9%8a-ug/
CATEGORIES:التقويم الأكاديمي
END:VEVENT
BEGIN:VEVENT
DTSTART;VALUE=DATE:20250615
DTEND;VALUE=DATE:20250616
DTSTAMP:20260419T174536
CREATED:20240624T162025Z
LAST-MODIFIED:20240624T162025Z
UID:5927-1749945600-1750031999@auib.edu.iq
SUMMARY:آخر يوم للدفع (UG)
DESCRIPTION:
URL:https://auib.edu.iq/ar/event/%d8%a2%d8%ae%d8%b1-%d9%8a%d9%88%d9%85-%d9%84%d9%84%d8%af%d9%81%d8%b9-ug/
CATEGORIES:التقويم الأكاديمي
END:VEVENT
BEGIN:VEVENT
DTSTART;VALUE=DATE:20250626
DTEND;VALUE=DATE:20250627
DTSTAMP:20260419T174536
CREATED:20240624T162106Z
LAST-MODIFIED:20240624T162106Z
UID:5926-1750896000-1750982399@auib.edu.iq
SUMMARY:رأس السنة الهجرية (الجامعة مفتوحة، فصول دراسية عادية)
DESCRIPTION:
URL:https://auib.edu.iq/ar/event/%d8%b1%d8%a3%d8%b3-%d8%a7%d9%84%d8%b3%d9%86%d8%a9-%d8%a7%d9%84%d9%87%d8%ac%d8%b1%d9%8a%d8%a9-%d8%a7%d9%84%d8%ac%d8%a7%d9%85%d8%b9%d8%a9-%d9%85%d9%81%d8%aa%d9%88%d8%ad%d8%a9%d8%8c-%d9%81%d8%b5%d9%88/
CATEGORIES:التقويم الأكاديمي
END:VEVENT
BEGIN:VEVENT
DTSTART;VALUE=DATE:20250626
DTEND;VALUE=DATE:20250627
DTSTAMP:20260419T174536
CREATED:20240624T162114Z
LAST-MODIFIED:20240624T162114Z
UID:5925-1750896000-1750982399@auib.edu.iq
SUMMARY:اليوم الأخير لانسحاب الطلاب الجامعيين ("w")
DESCRIPTION:
URL:https://auib.edu.iq/ar/event/%d8%a7%d9%84%d9%8a%d9%88%d9%85-%d8%a7%d9%84%d8%a3%d8%ae%d9%8a%d8%b1-%d9%84%d8%a7%d9%86%d8%b3%d8%ad%d8%a7%d8%a8-%d8%a7%d9%84%d8%b7%d9%84%d8%a7%d8%a8-%d8%a7%d9%84%d8%ac%d8%a7%d9%85%d8%b9%d9%8a%d9%8a/
CATEGORIES:التقويم الأكاديمي
END:VEVENT
END:VCALENDAR