BEGIN:VCALENDAR
VERSION:2.0
PRODID:-//The American University of Iraq – Baghdad (AUIB) - ECPv6.15.20//NONSGML v1.0//EN
CALSCALE:GREGORIAN
METHOD:PUBLISH
X-ORIGINAL-URL:https://auib.edu.iq/ar/
X-WR-CALDESC:Events for The American University of Iraq – Baghdad (AUIB)
REFRESH-INTERVAL;VALUE=DURATION:PT1H
X-Robots-Tag:noindex
X-PUBLISHED-TTL:PT1H
BEGIN:VTIMEZONE
TZID:Asia/Baghdad
BEGIN:STANDARD
TZOFFSETFROM:+0300
TZOFFSETTO:+0300
TZNAME:+03
DTSTART:20240101T000000
END:STANDARD
END:VTIMEZONE
BEGIN:VEVENT
DTSTART;VALUE=DATE:20250401
DTEND;VALUE=DATE:20250402
DTSTAMP:20260419T225908
CREATED:20240624T161052Z
LAST-MODIFIED:20240624T161052Z
UID:5930-1743465600-1743551999@auib.edu.iq
SUMMARY:عيد الفطر (الجامعة مغلقة)
DESCRIPTION:
URL:https://auib.edu.iq/ar/event/%d8%b9%d9%8a%d8%af-%d8%a7%d9%84%d9%81%d8%b7%d8%b1-%d8%a7%d9%84%d8%ac%d8%a7%d9%85%d8%b9%d8%a9-%d9%85%d8%ba%d9%84%d9%82%d8%a9/
CATEGORIES:التقويم الأكاديمي
END:VEVENT
BEGIN:VEVENT
DTSTART;VALUE=DATE:20250403
DTEND;VALUE=DATE:20250404
DTSTAMP:20260419T225908
CREATED:20240624T161150Z
LAST-MODIFIED:20240624T161150Z
UID:5939-1743638400-1743724799@auib.edu.iq
SUMMARY:اليوم الأخير لانسحاب الطلاب الجامعيين، فصل دراسي كامل (بتقدير "W")
DESCRIPTION:
URL:https://auib.edu.iq/ar/event/%d8%a7%d9%84%d9%8a%d9%88%d9%85-%d8%a7%d9%84%d8%a3%d8%ae%d9%8a%d8%b1-%d9%84%d8%a7%d9%86%d8%b3%d8%ad%d8%a7%d8%a8-%d8%a7%d9%84%d8%b7%d9%84%d8%a7%d8%a8-%d8%a7%d9%84%d8%ac%d8%a7%d9%85%d8%b9%d9%8a%d9%8a-2/
CATEGORIES:التقويم الأكاديمي
END:VEVENT
BEGIN:VEVENT
DTSTART;TZID=Asia/Baghdad:20250427T080000
DTEND;TZID=Asia/Baghdad:20250430T170000
DTSTAMP:20260419T225908
CREATED:20240624T161214Z
LAST-MODIFIED:20240624T161214Z
UID:5938-1745740800-1746032400@auib.edu.iq
SUMMARY:فترة التسجيل الصيفي والخريفي لطلاب الجامعات
DESCRIPTION:
URL:https://auib.edu.iq/ar/event/%d9%81%d8%aa%d8%b1%d8%a9-%d8%a7%d9%84%d8%aa%d8%b3%d8%ac%d9%8a%d9%84-%d8%a7%d9%84%d8%b5%d9%8a%d9%81%d9%8a-%d9%88%d8%a7%d9%84%d8%ae%d8%b1%d9%8a%d9%81%d9%8a-%d9%84%d8%b7%d9%84%d8%a7%d8%a8-%d8%a7%d9%84-2/
CATEGORIES:التقويم الأكاديمي
END:VEVENT
END:VCALENDAR