BEGIN:VCALENDAR
VERSION:2.0
PRODID:-//The American University of Iraq – Baghdad (AUIB) - ECPv6.15.20//NONSGML v1.0//EN
CALSCALE:GREGORIAN
METHOD:PUBLISH
X-WR-CALNAME:The American University of Iraq – Baghdad (AUIB)
X-ORIGINAL-URL:https://auib.edu.iq/ar/
X-WR-CALDESC:Events for The American University of Iraq – Baghdad (AUIB)
REFRESH-INTERVAL;VALUE=DURATION:PT1H
X-Robots-Tag:noindex
X-PUBLISHED-TTL:PT1H
BEGIN:VTIMEZONE
TZID:Asia/Baghdad
BEGIN:STANDARD
TZOFFSETFROM:+0300
TZOFFSETTO:+0300
TZNAME:+03
DTSTART:20240101T000000
END:STANDARD
END:VTIMEZONE
BEGIN:VEVENT
DTSTART;VALUE=DATE:20250202
DTEND;VALUE=DATE:20250203
DTSTAMP:20260421T201249
CREATED:20240624T160753Z
LAST-MODIFIED:20240624T160753Z
UID:5946-1738454400-1738540799@auib.edu.iq
SUMMARY:آخر يوم لإضافة/إسقاط مقرر دراسي للطلبة الجامعيين
DESCRIPTION:
URL:https://auib.edu.iq/ar/event/%d8%a2%d8%ae%d8%b1-%d9%8a%d9%88%d9%85-%d9%84%d8%a5%d8%b6%d8%a7%d9%81%d8%a9-%d8%a5%d8%b3%d9%82%d8%a7%d8%b7-%d9%85%d9%82%d8%b1%d8%b1-%d8%af%d8%b1%d8%a7%d8%b3%d9%8a-%d9%84%d9%84%d8%b7%d9%84%d8%a8%d8%a9/
CATEGORIES:التقويم الأكاديمي
END:VEVENT
BEGIN:VEVENT
DTSTART;VALUE=DATE:20250202
DTEND;VALUE=DATE:20250203
DTSTAMP:20260421T201249
CREATED:20240624T160759Z
LAST-MODIFIED:20240624T160759Z
UID:5945-1738454400-1738540799@auib.edu.iq
SUMMARY:آخر يوم لسداد رسوم مقررات الجامعة
DESCRIPTION:
URL:https://auib.edu.iq/ar/event/%d8%a2%d8%ae%d8%b1-%d9%8a%d9%88%d9%85-%d9%84%d8%b3%d8%af%d8%a7%d8%af-%d8%b1%d8%b3%d9%88%d9%85-%d9%85%d9%82%d8%b1%d8%b1%d8%a7%d8%aa-%d8%a7%d9%84%d8%ac%d8%a7%d9%85%d8%b9%d8%a9/
CATEGORIES:التقويم الأكاديمي
END:VEVENT
END:VCALENDAR