BEGIN:VCALENDAR
VERSION:2.0
PRODID:-//The American University of Iraq – Baghdad (AUIB) - ECPv6.15.20//NONSGML v1.0//EN
CALSCALE:GREGORIAN
METHOD:PUBLISH
X-ORIGINAL-URL:https://auib.edu.iq/ar/
X-WR-CALDESC:Events for The American University of Iraq – Baghdad (AUIB)
REFRESH-INTERVAL;VALUE=DURATION:PT1H
X-Robots-Tag:noindex
X-PUBLISHED-TTL:PT1H
BEGIN:VTIMEZONE
TZID:Asia/Baghdad
BEGIN:STANDARD
TZOFFSETFROM:+0300
TZOFFSETTO:+0300
TZNAME:+03
DTSTART:20230101T000000
END:STANDARD
END:VTIMEZONE
BEGIN:VEVENT
DTSTART;VALUE=DATE:20240704
DTEND;VALUE=DATE:20240705
DTSTAMP:20260425T231305
CREATED:20231123T143239Z
LAST-MODIFIED:20231123T143239Z
UID:5982-1720051200-1720137599@auib.edu.iq
SUMMARY:آخر يوم دراسي للدورة الصيفية
DESCRIPTION:
URL:https://auib.edu.iq/ar/event/%d8%a2%d8%ae%d8%b1-%d9%8a%d9%88%d9%85-%d8%af%d8%b1%d8%a7%d8%b3%d9%8a-%d9%84%d9%84%d8%af%d9%88%d8%b1%d8%a9-%d8%a7%d9%84%d8%b5%d9%8a%d9%81%d9%8a%d8%a9/
CATEGORIES:التقويم الأكاديمي
END:VEVENT
BEGIN:VEVENT
DTSTART;VALUE=DATE:20240704
DTEND;VALUE=DATE:20240705
DTSTAMP:20260425T231305
CREATED:20231123T143246Z
LAST-MODIFIED:20231123T143246Z
UID:5981-1720051200-1720137599@auib.edu.iq
SUMMARY:انتهاء الدورة الصيفية | تنتهي الدورة الصيفية
DESCRIPTION:
URL:https://auib.edu.iq/ar/event/%d8%a7%d9%86%d8%aa%d9%87%d8%a7%d8%a1-%d8%a7%d9%84%d8%af%d9%88%d8%b1%d8%a9-%d8%a7%d9%84%d8%b5%d9%8a%d9%81%d9%8a%d8%a9-%d8%aa%d9%86%d8%aa%d9%87%d9%8a-%d8%a7%d9%84%d8%af%d9%88%d8%b1%d8%a9-%d8%a7%d9%84/
CATEGORIES:التقويم الأكاديمي
END:VEVENT
BEGIN:VEVENT
DTSTART;VALUE=DATE:20240707
DTEND;VALUE=DATE:20240708
DTSTAMP:20260425T231305
CREATED:20231123T143317Z
LAST-MODIFIED:20231123T143317Z
UID:5980-1720310400-1720396799@auib.edu.iq
SUMMARY:رأس السنة الهجرية (فصول دراسية وجامعة مفتوحة)
DESCRIPTION:
URL:https://auib.edu.iq/ar/event/%d8%b1%d8%a3%d8%b3-%d8%a7%d9%84%d8%b3%d9%86%d8%a9-%d8%a7%d9%84%d9%87%d8%ac%d8%b1%d9%8a%d8%a9-%d9%81%d8%b5%d9%88%d9%84-%d8%af%d8%b1%d8%a7%d8%b3%d9%8a%d8%a9-%d9%88%d8%ac%d8%a7%d9%85%d8%b9%d8%a9-%d9%85/
CATEGORIES:التقويم الأكاديمي
END:VEVENT
BEGIN:VEVENT
DTSTART;VALUE=DATE:20240707
DTEND;VALUE=DATE:20240712
DTSTAMP:20260425T231305
CREATED:20231123T143343Z
LAST-MODIFIED:20231123T143343Z
UID:5974-1720310400-1720742399@auib.edu.iq
SUMMARY:فترة الامتحانات النهائية لجميع فصول الدورة الصيفية | الفصول الدراسية
DESCRIPTION:
URL:https://auib.edu.iq/ar/event/%d9%81%d8%aa%d8%b1%d8%a9-%d8%a7%d9%84%d8%a7%d9%85%d8%aa%d8%ad%d8%a7%d9%86%d8%a7%d8%aa-%d8%a7%d9%84%d9%86%d9%87%d8%a7%d8%a6%d9%8a%d8%a9-%d9%84%d8%ac%d9%85%d9%8a%d8%b9-%d9%81%d8%b5%d9%88%d9%84-%d8%a7/
CATEGORIES:التقويم الأكاديمي
END:VEVENT
BEGIN:VEVENT
DTSTART;VALUE=DATE:20240713
DTEND;VALUE=DATE:20240714
DTSTAMP:20260425T231305
CREATED:20231123T143401Z
LAST-MODIFIED:20231123T143401Z
UID:5973-1720828800-1720915199@auib.edu.iq
SUMMARY:الدرجات النهائية المستحقة لجميع الفصول الدراسية
DESCRIPTION:
URL:https://auib.edu.iq/ar/event/%d8%a7%d9%84%d8%af%d8%b1%d8%ac%d8%a7%d8%aa-%d8%a7%d9%84%d9%86%d9%87%d8%a7%d8%a6%d9%8a%d8%a9-%d8%a7%d9%84%d9%85%d8%b3%d8%aa%d8%ad%d9%82%d8%a9-%d9%84%d8%ac%d9%85%d9%8a%d8%b9-%d8%a7%d9%84%d9%81%d8%b5/
CATEGORIES:التقويم الأكاديمي
END:VEVENT
BEGIN:VEVENT
DTSTART;VALUE=DATE:20240714
DTEND;VALUE=DATE:20240715
DTSTAMP:20260425T231305
CREATED:20231123T143418Z
LAST-MODIFIED:20231123T143418Z
UID:5972-1720915200-1721001599@auib.edu.iq
SUMMARY:يوم الجمهورية (الفصول الدراسية، الجامعة مفتوحة)
DESCRIPTION:
URL:https://auib.edu.iq/ar/event/%d9%8a%d9%88%d9%85-%d8%a7%d9%84%d8%ac%d9%85%d9%87%d9%88%d8%b1%d9%8a%d8%a9-%d8%a7%d9%84%d9%81%d8%b5%d9%88%d9%84-%d8%a7%d9%84%d8%af%d8%b1%d8%a7%d8%b3%d9%8a%d8%a9%d8%8c-%d8%a7%d9%84%d8%ac%d8%a7%d9%85/
CATEGORIES:التقويم الأكاديمي
END:VEVENT
BEGIN:VEVENT
DTSTART;VALUE=DATE:20240716
DTEND;VALUE=DATE:20240717
DTSTAMP:20260425T231305
CREATED:20231123T143436Z
LAST-MODIFIED:20231123T143436Z
UID:5971-1721088000-1721174399@auib.edu.iq
SUMMARY:10 محرم/عاشوراء (إغلاق الجامعة)
DESCRIPTION:
URL:https://auib.edu.iq/ar/event/10-%d9%85%d8%ad%d8%b1%d9%85-%d8%b9%d8%a7%d8%b4%d9%88%d8%b1%d8%a7%d8%a1-%d8%a5%d8%ba%d9%84%d8%a7%d9%82-%d8%a7%d9%84%d8%ac%d8%a7%d9%85%d8%b9%d8%a9/
CATEGORIES:التقويم الأكاديمي
END:VEVENT
BEGIN:VEVENT
DTSTART;VALUE=DATE:20240718
DTEND;VALUE=DATE:20240719
DTSTAMP:20260425T231305
CREATED:20231123T143459Z
LAST-MODIFIED:20231123T143459Z
UID:5970-1721260800-1721347199@auib.edu.iq
SUMMARY:آخر يوم لتقديم الدرجات غير المكتملة
DESCRIPTION:
URL:https://auib.edu.iq/ar/event/%d8%a2%d8%ae%d8%b1-%d9%8a%d9%88%d9%85-%d9%84%d8%aa%d9%82%d8%af%d9%8a%d9%85-%d8%a7%d9%84%d8%af%d8%b1%d8%ac%d8%a7%d8%aa-%d8%ba%d9%8a%d8%b1-%d8%a7%d9%84%d9%85%d9%83%d8%aa%d9%85%d9%84%d8%a9/
CATEGORIES:التقويم الأكاديمي
END:VEVENT
BEGIN:VEVENT
DTSTART;VALUE=DATE:20240721
DTEND;VALUE=DATE:20240722
DTSTAMP:20260425T231305
CREATED:20231123T143517Z
LAST-MODIFIED:20231123T143517Z
UID:5979-1721520000-1721606399@auib.edu.iq
SUMMARY:اليوم الأول من الدورة الصيفية | | (بدء الدراسة)
DESCRIPTION:
URL:https://auib.edu.iq/ar/event/%d8%a7%d9%84%d9%8a%d9%88%d9%85-%d8%a7%d9%84%d8%a3%d9%88%d9%84-%d9%85%d9%86-%d8%a7%d9%84%d8%af%d9%88%d8%b1%d8%a9-%d8%a7%d9%84%d8%b5%d9%8a%d9%81%d9%8a%d8%a9-%d8%a8%d8%af%d8%a1-%d8%a7%d9%84%d8%af/
CATEGORIES:التقويم الأكاديمي
END:VEVENT
BEGIN:VEVENT
DTSTART;VALUE=DATE:20240725
DTEND;VALUE=DATE:20240726
DTSTAMP:20260425T231305
CREATED:20231123T143537Z
LAST-MODIFIED:20231123T143537Z
UID:5978-1721865600-1721951999@auib.edu.iq
SUMMARY:آخر يوم لإضافة/إسقاط مقرر دراسي للدورة
DESCRIPTION:
URL:https://auib.edu.iq/ar/event/%d8%a2%d8%ae%d8%b1-%d9%8a%d9%88%d9%85-%d9%84%d8%a5%d8%b6%d8%a7%d9%81%d8%a9-%d8%a5%d8%b3%d9%82%d8%a7%d8%b7-%d9%85%d9%82%d8%b1%d8%b1-%d8%af%d8%b1%d8%a7%d8%b3%d9%8a-%d9%84%d9%84%d8%af%d9%88%d8%b1%d8%a9/
CATEGORIES:التقويم الأكاديمي
END:VEVENT
BEGIN:VEVENT
DTSTART;VALUE=DATE:20240725
DTEND;VALUE=DATE:20240726
DTSTAMP:20260425T231305
CREATED:20231123T143555Z
LAST-MODIFIED:20231123T143555Z
UID:5977-1721865600-1721951999@auib.edu.iq
SUMMARY:اليوم الأخير لسداد رسوم الدورة | | الدورات
DESCRIPTION:
URL:https://auib.edu.iq/ar/event/%d8%a7%d9%84%d9%8a%d9%88%d9%85-%d8%a7%d9%84%d8%a3%d8%ae%d9%8a%d8%b1-%d9%84%d8%b3%d8%af%d8%a7%d8%af-%d8%b1%d8%b3%d9%88%d9%85-%d8%a7%d9%84%d8%af%d9%88%d8%b1%d8%a9-%d8%a7%d9%84%d8%af%d9%88%d8%b1/
CATEGORIES:التقويم الأكاديمي
END:VEVENT
END:VCALENDAR