BEGIN:VCALENDAR
VERSION:2.0
PRODID:-//The American University of Iraq – Baghdad (AUIB) - ECPv6.15.20//NONSGML v1.0//EN
CALSCALE:GREGORIAN
METHOD:PUBLISH
X-WR-CALNAME:The American University of Iraq – Baghdad (AUIB)
X-ORIGINAL-URL:https://auib.edu.iq/ar/
X-WR-CALDESC:Events for The American University of Iraq – Baghdad (AUIB)
REFRESH-INTERVAL;VALUE=DURATION:PT1H
X-Robots-Tag:noindex
X-PUBLISHED-TTL:PT1H
BEGIN:VTIMEZONE
TZID:Asia/Baghdad
BEGIN:STANDARD
TZOFFSETFROM:+0300
TZOFFSETTO:+0300
TZNAME:+03
DTSTART:20230101T000000
END:STANDARD
END:VTIMEZONE
BEGIN:VEVENT
DTSTART;VALUE=DATE:20240704
DTEND;VALUE=DATE:20240705
DTSTAMP:20260426T063550
CREATED:20231123T143246Z
LAST-MODIFIED:20231123T143246Z
UID:5981-1720051200-1720137599@auib.edu.iq
SUMMARY:انتهاء الدورة الصيفية | تنتهي الدورة الصيفية
DESCRIPTION:
URL:https://auib.edu.iq/ar/event/%d8%a7%d9%86%d8%aa%d9%87%d8%a7%d8%a1-%d8%a7%d9%84%d8%af%d9%88%d8%b1%d8%a9-%d8%a7%d9%84%d8%b5%d9%8a%d9%81%d9%8a%d8%a9-%d8%aa%d9%86%d8%aa%d9%87%d9%8a-%d8%a7%d9%84%d8%af%d9%88%d8%b1%d8%a9-%d8%a7%d9%84/
CATEGORIES:التقويم الأكاديمي
END:VEVENT
BEGIN:VEVENT
DTSTART;VALUE=DATE:20240704
DTEND;VALUE=DATE:20240705
DTSTAMP:20260426T063550
CREATED:20231123T143239Z
LAST-MODIFIED:20231123T143239Z
UID:5982-1720051200-1720137599@auib.edu.iq
SUMMARY:آخر يوم دراسي للدورة الصيفية
DESCRIPTION:
URL:https://auib.edu.iq/ar/event/%d8%a2%d8%ae%d8%b1-%d9%8a%d9%88%d9%85-%d8%af%d8%b1%d8%a7%d8%b3%d9%8a-%d9%84%d9%84%d8%af%d9%88%d8%b1%d8%a9-%d8%a7%d9%84%d8%b5%d9%8a%d9%81%d9%8a%d8%a9/
CATEGORIES:التقويم الأكاديمي
END:VEVENT
BEGIN:VEVENT
DTSTART;VALUE=DATE:20240623
DTEND;VALUE=DATE:20240624
DTSTAMP:20260426T063550
CREATED:20231123T143222Z
LAST-MODIFIED:20231123T143222Z
UID:5983-1719100800-1719187199@auib.edu.iq
SUMMARY:اليوم الأخير للجلسة | انسحاب UG ("W")
DESCRIPTION:
URL:https://auib.edu.iq/ar/event/%d8%a7%d9%84%d9%8a%d9%88%d9%85-%d8%a7%d9%84%d8%a3%d8%ae%d9%8a%d8%b1-%d9%84%d9%84%d8%ac%d9%84%d8%b3%d8%a9-%d8%a7%d9%86%d8%b3%d8%ad%d8%a7%d8%a8-ug-w/
CATEGORIES:التقويم الأكاديمي
END:VEVENT
BEGIN:VEVENT
DTSTART;VALUE=DATE:20240616
DTEND;VALUE=DATE:20240620
DTSTAMP:20260426T063550
CREATED:20231123T143201Z
LAST-MODIFIED:20231123T143201Z
UID:5984-1718496000-1718841599@auib.edu.iq
SUMMARY:عيد الأضحى (الجامعة مغلقة)
DESCRIPTION:
URL:https://auib.edu.iq/ar/event/%d8%b9%d9%8a%d8%af-%d8%a7%d9%84%d8%a3%d8%b6%d8%ad%d9%89-%d8%a7%d9%84%d8%ac%d8%a7%d9%85%d8%b9%d8%a9-%d9%85%d8%ba%d9%84%d9%82%d8%a9-2/
CATEGORIES:التقويم الأكاديمي
END:VEVENT
BEGIN:VEVENT
DTSTART;VALUE=DATE:20240606
DTEND;VALUE=DATE:20240607
DTSTAMP:20260426T063550
CREATED:20231123T143128Z
LAST-MODIFIED:20231123T143128Z
UID:5985-1717632000-1717718399@auib.edu.iq
SUMMARY:آخر يوم للدفع للدورة الصيفية | دورات الجامعات
DESCRIPTION:
URL:https://auib.edu.iq/ar/event/%d8%a2%d8%ae%d8%b1-%d9%8a%d9%88%d9%85-%d9%84%d9%84%d8%af%d9%81%d8%b9-%d9%84%d9%84%d8%af%d9%88%d8%b1%d8%a9-%d8%a7%d9%84%d8%b5%d9%8a%d9%81%d9%8a%d8%a9-%d8%af%d9%88%d8%b1%d8%a7%d8%aa-%d8%a7%d9%84%d8%ac/
CATEGORIES:التقويم الأكاديمي
END:VEVENT
BEGIN:VEVENT
DTSTART;VALUE=DATE:20240606
DTEND;VALUE=DATE:20240607
DTSTAMP:20260426T063550
CREATED:20231123T143123Z
LAST-MODIFIED:20231123T143123Z
UID:5986-1717632000-1717718399@auib.edu.iq
SUMMARY:آخر يوم لإضافة/إسقاط مقرر دراسي للدورة الصيفية |مقررات الجامعة
DESCRIPTION:
URL:https://auib.edu.iq/ar/event/%d8%a2%d8%ae%d8%b1-%d9%8a%d9%88%d9%85-%d9%84%d8%a5%d8%b6%d8%a7%d9%81%d8%a9-%d8%a5%d8%b3%d9%82%d8%a7%d8%b7-%d9%85%d9%82%d8%b1%d8%b1-%d8%af%d8%b1%d8%a7%d8%b3%d9%8a-%d9%84%d9%84%d8%af%d9%88%d8%b1%d8%a9-2/
CATEGORIES:التقويم الأكاديمي
END:VEVENT
BEGIN:VEVENT
DTSTART;VALUE=DATE:20240602
DTEND;VALUE=DATE:20240603
DTSTAMP:20260426T063550
CREATED:20231123T143106Z
LAST-MODIFIED:20231123T143106Z
UID:5987-1717286400-1717372799@auib.edu.iq
SUMMARY:اليوم الأول من الدورة الصيفية | فصول دراسية للطلبة الجامعيين
DESCRIPTION:
URL:https://auib.edu.iq/ar/event/%d8%a7%d9%84%d9%8a%d9%88%d9%85-%d8%a7%d9%84%d8%a3%d9%88%d9%84-%d9%85%d9%86-%d8%a7%d9%84%d8%af%d9%88%d8%b1%d8%a9-%d8%a7%d9%84%d8%b5%d9%8a%d9%81%d9%8a%d8%a9-%d9%81%d8%b5%d9%88%d9%84-%d8%af%d8%b1%d8%a7/
CATEGORIES:التقويم الأكاديمي
END:VEVENT
BEGIN:VEVENT
DTSTART;VALUE=DATE:20240530
DTEND;VALUE=DATE:20240531
DTSTAMP:20260426T063550
CREATED:20231123T143034Z
LAST-MODIFIED:20231123T143034Z
UID:5988-1717027200-1717113599@auib.edu.iq
SUMMARY:آخر يوم لسداد رسوم الدورة الصيفية ASP
DESCRIPTION:
URL:https://auib.edu.iq/ar/event/%d8%a2%d8%ae%d8%b1-%d9%8a%d9%88%d9%85-%d9%84%d8%b3%d8%af%d8%a7%d8%af-%d8%b1%d8%b3%d9%88%d9%85-%d8%a7%d9%84%d8%af%d9%88%d8%b1%d8%a9-%d8%a7%d9%84%d8%b5%d9%8a%d9%81%d9%8a%d8%a9-asp/
CATEGORIES:التقويم الأكاديمي
END:VEVENT
BEGIN:VEVENT
DTSTART;VALUE=DATE:20240530
DTEND;VALUE=DATE:20240531
DTSTAMP:20260426T063550
CREATED:20231123T143028Z
LAST-MODIFIED:20231123T143028Z
UID:5989-1717027200-1717113599@auib.edu.iq
SUMMARY:آخر يوم لإضافة/إسقاط مقرر دراسي لبرنامج ASP
DESCRIPTION:
URL:https://auib.edu.iq/ar/event/%d8%a2%d8%ae%d8%b1-%d9%8a%d9%88%d9%85-%d9%84%d8%a5%d8%b6%d8%a7%d9%81%d8%a9-%d8%a5%d8%b3%d9%82%d8%a7%d8%b7-%d9%85%d9%82%d8%b1%d8%b1-%d8%af%d8%b1%d8%a7%d8%b3%d9%8a-%d9%84%d8%a8%d8%b1%d9%86%d8%a7%d9%85/
CATEGORIES:التقويم الأكاديمي
END:VEVENT
BEGIN:VEVENT
DTSTART;VALUE=DATE:20240526
DTEND;VALUE=DATE:20240527
DTSTAMP:20260426T063550
CREATED:20231123T142958Z
LAST-MODIFIED:20231123T142958Z
UID:5990-1716681600-1716767999@auib.edu.iq
SUMMARY:اليوم الأول من الدورة الصيفية | فصول ASP
DESCRIPTION:
URL:https://auib.edu.iq/ar/event/%d8%a7%d9%84%d9%8a%d9%88%d9%85-%d8%a7%d9%84%d8%a3%d9%88%d9%84-%d9%85%d9%86-%d8%a7%d9%84%d8%af%d9%88%d8%b1%d8%a9-%d8%a7%d9%84%d8%b5%d9%8a%d9%81%d9%8a%d8%a9-%d9%81%d8%b5%d9%88%d9%84-asp/
CATEGORIES:التقويم الأكاديمي
END:VEVENT
BEGIN:VEVENT
DTSTART;VALUE=DATE:20240525
DTEND;VALUE=DATE:20240526
DTSTAMP:20260426T063550
CREATED:20231123T142938Z
LAST-MODIFIED:20231123T142938Z
UID:5991-1716595200-1716681599@auib.edu.iq
SUMMARY:الدرجات النهائية المستحقة
DESCRIPTION:
URL:https://auib.edu.iq/ar/event/%d8%a7%d9%84%d8%af%d8%b1%d8%ac%d8%a7%d8%aa-%d8%a7%d9%84%d9%86%d9%87%d8%a7%d8%a6%d9%8a%d8%a9-%d8%a7%d9%84%d9%85%d8%b3%d8%aa%d8%ad%d9%82%d8%a9-5/
CATEGORIES:التقويم الأكاديمي
END:VEVENT
BEGIN:VEVENT
DTSTART;VALUE=DATE:20240519
DTEND;VALUE=DATE:20240524
DTSTAMP:20260426T063550
CREATED:20231123T142920Z
LAST-MODIFIED:20231123T142920Z
UID:5992-1716076800-1716508799@auib.edu.iq
SUMMARY:فترة الامتحانات النهائية لفصل الربيع
DESCRIPTION:
URL:https://auib.edu.iq/ar/event/%d9%81%d8%aa%d8%b1%d8%a9-%d8%a7%d9%84%d8%a7%d9%85%d8%aa%d8%ad%d8%a7%d9%86%d8%a7%d8%aa-%d8%a7%d9%84%d9%86%d9%87%d8%a7%d8%a6%d9%8a%d8%a9-%d9%84%d9%81%d8%b5%d9%84-%d8%a7%d9%84%d8%b1%d8%a8%d9%8a%d8%b9-2/
CATEGORIES:التقويم الأكاديمي
END:VEVENT
BEGIN:VEVENT
DTSTART;VALUE=DATE:20240516
DTEND;VALUE=DATE:20240517
DTSTAMP:20260426T063550
CREATED:20231123T142851Z
LAST-MODIFIED:20231123T142851Z
UID:5993-1715817600-1715903999@auib.edu.iq
SUMMARY:انتهاء فصل الربيع
DESCRIPTION:
URL:https://auib.edu.iq/ar/event/%d8%a7%d9%86%d8%aa%d9%87%d8%a7%d8%a1-%d9%81%d8%b5%d9%84-%d8%a7%d9%84%d8%b1%d8%a8%d9%8a%d8%b9/
CATEGORIES:التقويم الأكاديمي
END:VEVENT
BEGIN:VEVENT
DTSTART;VALUE=DATE:20240516
DTEND;VALUE=DATE:20240517
DTSTAMP:20260426T063550
CREATED:20231123T142845Z
LAST-MODIFIED:20231123T142845Z
UID:5994-1715817600-1715903999@auib.edu.iq
SUMMARY:اليوم الأخير من فصول الربيع الجامعية
DESCRIPTION:
URL:https://auib.edu.iq/ar/event/%d8%a7%d9%84%d9%8a%d9%88%d9%85-%d8%a7%d9%84%d8%a3%d8%ae%d9%8a%d8%b1-%d9%85%d9%86-%d9%81%d8%b5%d9%88%d9%84-%d8%a7%d9%84%d8%b1%d8%a8%d9%8a%d8%b9-%d8%a7%d9%84%d8%ac%d8%a7%d9%85%d8%b9%d9%8a%d8%a9/
CATEGORIES:التقويم الأكاديمي
END:VEVENT
BEGIN:VEVENT
DTSTART;VALUE=DATE:20240511
DTEND;VALUE=DATE:20240512
DTSTAMP:20260426T063550
CREATED:20231123T142828Z
LAST-MODIFIED:20231123T142828Z
UID:5995-1715385600-1715471999@auib.edu.iq
SUMMARY:درجات ASP النهائية المستحقة
DESCRIPTION:
URL:https://auib.edu.iq/ar/event/%d8%af%d8%b1%d8%ac%d8%a7%d8%aa-asp-%d8%a7%d9%84%d9%86%d9%87%d8%a7%d8%a6%d9%8a%d8%a9-%d8%a7%d9%84%d9%85%d8%b3%d8%aa%d8%ad%d9%82%d8%a9/
CATEGORIES:التقويم الأكاديمي
END:VEVENT
BEGIN:VEVENT
DTSTART;VALUE=DATE:20240505
DTEND;VALUE=DATE:20240510
DTSTAMP:20260426T063550
CREATED:20231123T142809Z
LAST-MODIFIED:20231123T142809Z
UID:5996-1714867200-1715299199@auib.edu.iq
SUMMARY:فترة الاختبار النهائي لامتحان ASP
DESCRIPTION:
URL:https://auib.edu.iq/ar/event/%d9%81%d8%aa%d8%b1%d8%a9-%d8%a7%d9%84%d8%a7%d8%ae%d8%aa%d8%a8%d8%a7%d8%b1-%d8%a7%d9%84%d9%86%d9%87%d8%a7%d8%a6%d9%8a-%d9%84%d8%a7%d9%85%d8%aa%d8%ad%d8%a7%d9%86-asp/
CATEGORIES:التقويم الأكاديمي
END:VEVENT
BEGIN:VEVENT
DTSTART;VALUE=DATE:20240502
DTEND;VALUE=DATE:20240503
DTSTAMP:20260426T063550
CREATED:20231123T142744Z
LAST-MODIFIED:20231123T142744Z
UID:5997-1714608000-1714694399@auib.edu.iq
SUMMARY:آخر يوم للجلسة || فصول ASP
DESCRIPTION:
URL:https://auib.edu.iq/ar/event/%d8%a2%d8%ae%d8%b1-%d9%8a%d9%88%d9%85-%d9%84%d9%84%d8%ac%d9%84%d8%b3%d8%a9-%d9%81%d8%b5%d9%88%d9%84-asp/
CATEGORIES:التقويم الأكاديمي
END:VEVENT
BEGIN:VEVENT
DTSTART;VALUE=DATE:20240501
DTEND;VALUE=DATE:20240502
DTSTAMP:20260426T063550
CREATED:20231123T142723Z
LAST-MODIFIED:20231123T142723Z
UID:5998-1714521600-1714607999@auib.edu.iq
SUMMARY:عيد العمال الدولي (الفصول الدراسية، الجامعة مفتوحة)
DESCRIPTION:
URL:https://auib.edu.iq/ar/event/%d8%b9%d9%8a%d8%af-%d8%a7%d9%84%d8%b9%d9%85%d8%a7%d9%84-%d8%a7%d9%84%d8%af%d9%88%d9%84%d9%8a-%d8%a7%d9%84%d9%81%d8%b5%d9%88%d9%84-%d8%a7%d9%84%d8%af%d8%b1%d8%a7%d8%b3%d9%8a%d8%a9%d8%8c-%d8%a7%d9%84/
CATEGORIES:التقويم الأكاديمي
END:VEVENT
BEGIN:VEVENT
DTSTART;VALUE=DATE:20240430
DTEND;VALUE=DATE:20240501
DTSTAMP:20260426T063550
CREATED:20231123T142705Z
LAST-MODIFIED:20231123T142705Z
UID:5999-1714435200-1714521599@auib.edu.iq
SUMMARY:بدء التسجيل المبكر لصيف 2023
DESCRIPTION:
URL:https://auib.edu.iq/ar/event/%d8%a8%d8%af%d8%a1-%d8%a7%d9%84%d8%aa%d8%b3%d8%ac%d9%8a%d9%84-%d8%a7%d9%84%d9%85%d8%a8%d9%83%d8%b1-%d9%84%d8%b5%d9%8a%d9%81-2023/
CATEGORIES:التقويم الأكاديمي
END:VEVENT
BEGIN:VEVENT
DTSTART;VALUE=DATE:20240421
DTEND;VALUE=DATE:20240422
DTSTAMP:20260426T063550
CREATED:20231123T142644Z
LAST-MODIFIED:20231123T142644Z
UID:6000-1713657600-1713743999@auib.edu.iq
SUMMARY:افتتاح التسجيل في فصلي الخريف والصيف
DESCRIPTION:
URL:https://auib.edu.iq/ar/event/%d8%a7%d9%81%d8%aa%d8%aa%d8%a7%d8%ad-%d8%a7%d9%84%d8%aa%d8%b3%d8%ac%d9%8a%d9%84-%d9%81%d9%8a-%d9%81%d8%b5%d9%84%d9%8a-%d8%a7%d9%84%d8%ae%d8%b1%d9%8a%d9%81-%d9%88%d8%a7%d9%84%d8%b5%d9%8a%d9%81/
CATEGORIES:التقويم الأكاديمي
END:VEVENT
BEGIN:VEVENT
DTSTART;VALUE=DATE:20240421
DTEND;VALUE=DATE:20240422
DTSTAMP:20260426T063550
CREATED:20231123T142627Z
LAST-MODIFIED:20231123T142627Z
UID:6001-1713657600-1713743999@auib.edu.iq
SUMMARY:اليوم الأخير للجلسة || انسحاب ASP (تقدير "W")
DESCRIPTION:
URL:https://auib.edu.iq/ar/event/%d8%a7%d9%84%d9%8a%d9%88%d9%85-%d8%a7%d9%84%d8%a3%d8%ae%d9%8a%d8%b1-%d9%84%d9%84%d8%ac%d9%84%d8%b3%d8%a9-%d8%a7%d9%86%d8%b3%d8%ad%d8%a7%d8%a8-asp-%d8%aa%d9%82%d8%af%d9%8a%d8%b1-w/
CATEGORIES:التقويم الأكاديمي
END:VEVENT
BEGIN:VEVENT
DTSTART;VALUE=DATE:20240410
DTEND;VALUE=DATE:20240413
DTSTAMP:20260426T063550
CREATED:20231123T142608Z
LAST-MODIFIED:20231123T142608Z
UID:6002-1712707200-1712966399@auib.edu.iq
SUMMARY:عيد الفطر (الجامعة مغلقة)
DESCRIPTION:
URL:https://auib.edu.iq/ar/event/%d8%b9%d9%8a%d8%af-%d8%a7%d9%84%d9%81%d8%b7%d8%b1-%d8%a7%d9%84%d8%ac%d8%a7%d9%85%d8%b9%d8%a9-%d9%85%d8%ba%d9%84%d9%82%d8%a9-3/
CATEGORIES:التقويم الأكاديمي
END:VEVENT
BEGIN:VEVENT
DTSTART;VALUE=DATE:20240324
DTEND;VALUE=DATE:20240325
DTSTAMP:20260426T063550
CREATED:20231123T142549Z
LAST-MODIFIED:20231123T142549Z
UID:6003-1711238400-1711324799@auib.edu.iq
SUMMARY:آخر يوم للانسحاب، فصل دراسي كامل (تقدير "W")
DESCRIPTION:
URL:https://auib.edu.iq/ar/event/%d8%a2%d8%ae%d8%b1-%d9%8a%d9%88%d9%85-%d9%84%d9%84%d8%a7%d9%86%d8%b3%d8%ad%d8%a7%d8%a8%d8%8c-%d9%81%d8%b5%d9%84-%d8%af%d8%b1%d8%a7%d8%b3%d9%8a-%d9%83%d8%a7%d9%85%d9%84-%d8%aa%d9%82%d8%af%d9%8a%d8%b1/
CATEGORIES:التقويم الأكاديمي
END:VEVENT
BEGIN:VEVENT
DTSTART;VALUE=DATE:20240324
DTEND;VALUE=DATE:20240325
DTSTAMP:20260426T063550
CREATED:20231123T142530Z
LAST-MODIFIED:20231123T142530Z
UID:6004-1711238400-1711324799@auib.edu.iq
SUMMARY:آخر يوم لسداد رسوم دورة ASP | | الدورات
DESCRIPTION:
URL:https://auib.edu.iq/ar/event/%d8%a2%d8%ae%d8%b1-%d9%8a%d9%88%d9%85-%d9%84%d8%b3%d8%af%d8%a7%d8%af-%d8%b1%d8%b3%d9%88%d9%85-%d8%af%d9%88%d8%b1%d8%a9-asp-%d8%a7%d9%84%d8%af%d9%88%d8%b1%d8%a7%d8%aa/
CATEGORIES:التقويم الأكاديمي
END:VEVENT
BEGIN:VEVENT
DTSTART;VALUE=DATE:20240324
DTEND;VALUE=DATE:20240325
DTSTAMP:20260426T063550
CREATED:20231123T142514Z
LAST-MODIFIED:20231123T142514Z
UID:6005-1711238400-1711324799@auib.edu.iq
SUMMARY:آخر يوم لإضافة/إسقاط مقرر دراسي في دورة ASP
DESCRIPTION:
URL:https://auib.edu.iq/ar/event/%d8%a2%d8%ae%d8%b1-%d9%8a%d9%88%d9%85-%d9%84%d8%a5%d8%b6%d8%a7%d9%81%d8%a9-%d8%a5%d8%b3%d9%82%d8%a7%d8%b7-%d9%85%d9%82%d8%b1%d8%b1-%d8%af%d8%b1%d8%a7%d8%b3%d9%8a-%d9%81%d9%8a-%d8%af%d9%88%d8%b1%d8%a9/
CATEGORIES:التقويم الأكاديمي
END:VEVENT
BEGIN:VEVENT
DTSTART;VALUE=DATE:20240321
DTEND;VALUE=DATE:20240322
DTSTAMP:20260426T063550
CREATED:20231123T142451Z
LAST-MODIFIED:20231123T142451Z
UID:6006-1710979200-1711065599@auib.edu.iq
SUMMARY:النوروز (الفصول الدراسية، الجامعة مفتوحة)
DESCRIPTION:
URL:https://auib.edu.iq/ar/event/%d8%a7%d9%84%d9%86%d9%88%d8%b1%d9%88%d8%b2-%d8%a7%d9%84%d9%81%d8%b5%d9%88%d9%84-%d8%a7%d9%84%d8%af%d8%b1%d8%a7%d8%b3%d9%8a%d8%a9%d8%8c-%d8%a7%d9%84%d8%ac%d8%a7%d9%85%d8%b9%d8%a9-%d9%85%d9%81%d8%aa/
CATEGORIES:التقويم الأكاديمي
END:VEVENT
BEGIN:VEVENT
DTSTART;VALUE=DATE:20240317
DTEND;VALUE=DATE:20240318
DTSTAMP:20260426T063550
CREATED:20231123T142430Z
LAST-MODIFIED:20231123T142430Z
UID:6007-1710633600-1710719999@auib.edu.iq
SUMMARY:اليوم الأول من الجلسة || (بدء الحصص الدراسية)
DESCRIPTION:
URL:https://auib.edu.iq/ar/event/%d8%a7%d9%84%d9%8a%d9%88%d9%85-%d8%a7%d9%84%d8%a3%d9%88%d9%84-%d9%85%d9%86-%d8%a7%d9%84%d8%ac%d9%84%d8%b3%d8%a9-%d8%a8%d8%af%d8%a1-%d8%a7%d9%84%d8%ad%d8%b5%d8%b5-%d8%a7%d9%84%d8%af%d8%b1%d8%a7/
CATEGORIES:التقويم الأكاديمي
END:VEVENT
BEGIN:VEVENT
DTSTART;VALUE=DATE:20240310
DTEND;VALUE=DATE:20240315
DTSTAMP:20260426T063550
CREATED:20231123T142400Z
LAST-MODIFIED:20231123T142400Z
UID:6008-1710028800-1710460799@auib.edu.iq
SUMMARY:عطلة الربيع
DESCRIPTION:
URL:https://auib.edu.iq/ar/event/%d8%b9%d8%b7%d9%84%d8%a9-%d8%a7%d9%84%d8%b1%d8%a8%d9%8a%d8%b9-2/
CATEGORIES:التقويم الأكاديمي
END:VEVENT
BEGIN:VEVENT
DTSTART;VALUE=DATE:20240307
DTEND;VALUE=DATE:20240308
DTSTAMP:20260426T063550
CREATED:20231123T142330Z
LAST-MODIFIED:20231123T142330Z
UID:6009-1709769600-1709855999@auib.edu.iq
SUMMARY:تنتهي الجلسة | تنتهي الجلسة
DESCRIPTION:
URL:https://auib.edu.iq/ar/event/%d8%aa%d9%86%d8%aa%d9%87%d9%8a-%d8%a7%d9%84%d8%ac%d9%84%d8%b3%d8%a9-%d8%aa%d9%86%d8%aa%d9%87%d9%8a-%d8%a7%d9%84%d8%ac%d9%84%d8%b3%d8%a9/
CATEGORIES:التقويم الأكاديمي
END:VEVENT
BEGIN:VEVENT
DTSTART;VALUE=DATE:20240307
DTEND;VALUE=DATE:20240308
DTSTAMP:20260426T063550
CREATED:20231123T142313Z
LAST-MODIFIED:20231123T142313Z
UID:6010-1709769600-1709855999@auib.edu.iq
SUMMARY:آخر يوم لتقديم الدرجات غير المكتملة
DESCRIPTION:
URL:https://auib.edu.iq/ar/event/%d8%a2%d8%ae%d8%b1-%d9%8a%d9%88%d9%85-%d9%84%d8%aa%d9%82%d8%af%d9%8a%d9%85-%d8%a7%d9%84%d8%af%d8%b1%d8%ac%d8%a7%d8%aa-%d8%ba%d9%8a%d8%b1-%d8%a7%d9%84%d9%85%d9%83%d8%aa%d9%85%d9%84%d8%a9-2/
CATEGORIES:التقويم الأكاديمي
END:VEVENT
END:VCALENDAR