BEGIN:VCALENDAR
VERSION:2.0
PRODID:-//The American University of Iraq – Baghdad (AUIB) - ECPv6.15.20//NONSGML v1.0//EN
CALSCALE:GREGORIAN
METHOD:PUBLISH
X-ORIGINAL-URL:https://auib.edu.iq/ar/
X-WR-CALDESC:Events for The American University of Iraq – Baghdad (AUIB)
REFRESH-INTERVAL;VALUE=DURATION:PT1H
X-Robots-Tag:noindex
X-PUBLISHED-TTL:PT1H
BEGIN:VTIMEZONE
TZID:Asia/Baghdad
BEGIN:STANDARD
TZOFFSETFROM:+0300
TZOFFSETTO:+0300
TZNAME:+03
DTSTART:20240101T000000
END:STANDARD
END:VTIMEZONE
BEGIN:VEVENT
DTSTART;TZID=Asia/Baghdad:20250713T080000
DTEND;TZID=Asia/Baghdad:20250715T170000
DTSTAMP:20260420T023815
CREATED:20240624T162403Z
LAST-MODIFIED:20240624T162403Z
UID:5916-1752393600-1752598800@auib.edu.iq
SUMMARY:فترة الامتحانات النهائية لصفوف الجامعة
DESCRIPTION:
URL:https://auib.edu.iq/ar/event/%d9%81%d8%aa%d8%b1%d8%a9-%d8%a7%d9%84%d8%a7%d9%85%d8%aa%d8%ad%d8%a7%d9%86%d8%a7%d8%aa-%d8%a7%d9%84%d9%86%d9%87%d8%a7%d8%a6%d9%8a%d8%a9-%d9%84%d8%b5%d9%81%d9%88%d9%81-%d8%a7%d9%84%d8%ac%d8%a7%d9%85/
CATEGORIES:التقويم الأكاديمي
END:VEVENT
BEGIN:VEVENT
DTSTART;VALUE=DATE:20250714
DTEND;VALUE=DATE:20250715
DTSTAMP:20260420T023815
CREATED:20240624T162304Z
LAST-MODIFIED:20240624T162304Z
UID:5918-1752451200-1752537599@auib.edu.iq
SUMMARY:يوم الجمهورية (الجامعة مفتوحة)
DESCRIPTION:
URL:https://auib.edu.iq/ar/event/%d9%8a%d9%88%d9%85-%d8%a7%d9%84%d8%ac%d9%85%d9%87%d9%88%d8%b1%d9%8a%d8%a9-%d8%a7%d9%84%d8%ac%d8%a7%d9%85%d8%b9%d8%a9-%d9%85%d9%81%d8%aa%d9%88%d8%ad%d8%a9/
CATEGORIES:التقويم الأكاديمي
END:VEVENT
END:VCALENDAR