BEGIN:VCALENDAR
VERSION:2.0
PRODID:-//The American University of Iraq – Baghdad (AUIB) - ECPv6.15.20//NONSGML v1.0//EN
CALSCALE:GREGORIAN
METHOD:PUBLISH
X-WR-CALNAME:The American University of Iraq – Baghdad (AUIB)
X-ORIGINAL-URL:https://auib.edu.iq/ar/
X-WR-CALDESC:Events for The American University of Iraq – Baghdad (AUIB)
REFRESH-INTERVAL;VALUE=DURATION:PT1H
X-Robots-Tag:noindex
X-PUBLISHED-TTL:PT1H
BEGIN:VTIMEZONE
TZID:Asia/Baghdad
BEGIN:STANDARD
TZOFFSETFROM:+0300
TZOFFSETTO:+0300
TZNAME:+03
DTSTART:20240101T000000
END:STANDARD
END:VTIMEZONE
BEGIN:VEVENT
DTSTART;TZID=Asia/Baghdad:20250112T080000
DTEND;TZID=Asia/Baghdad:20250116T170000
DTSTAMP:20260422T044255
CREATED:20240624T160612Z
LAST-MODIFIED:20240624T160612Z
UID:5949-1736668800-1737046800@auib.edu.iq
SUMMARY:فترة التسجيل في فصل الربيع لطلاب الجامعات
DESCRIPTION:
URL:https://auib.edu.iq/ar/event/%d9%81%d8%aa%d8%b1%d8%a9-%d8%a7%d9%84%d8%aa%d8%b3%d8%ac%d9%8a%d9%84-%d9%81%d9%8a-%d9%81%d8%b5%d9%84-%d8%a7%d9%84%d8%b1%d8%a8%d9%8a%d8%b9-%d9%84%d8%b7%d9%84%d8%a7%d8%a8-%d8%a7%d9%84%d8%ac%d8%a7%d9%85/
CATEGORIES:التقويم الأكاديمي
END:VEVENT
END:VCALENDAR