BEGIN:VCALENDAR
VERSION:2.0
PRODID:-//The American University of Iraq – Baghdad (AUIB) - ECPv6.15.20//NONSGML v1.0//EN
CALSCALE:GREGORIAN
METHOD:PUBLISH
X-WR-CALNAME:The American University of Iraq – Baghdad (AUIB)
X-ORIGINAL-URL:https://auib.edu.iq/ar/
X-WR-CALDESC:Events for The American University of Iraq – Baghdad (AUIB)
REFRESH-INTERVAL;VALUE=DURATION:PT1H
X-Robots-Tag:noindex
X-PUBLISHED-TTL:PT1H
BEGIN:VTIMEZONE
TZID:Asia/Baghdad
BEGIN:STANDARD
TZOFFSETFROM:+0300
TZOFFSETTO:+0300
TZNAME:+03
DTSTART:20240101T000000
END:STANDARD
END:VTIMEZONE
BEGIN:VEVENT
DTSTART;VALUE=DATE:20250106
DTEND;VALUE=DATE:20250107
DTSTAMP:20260425T222036
CREATED:20240624T160440Z
LAST-MODIFIED:20240624T160440Z
UID:5943-1736121600-1736207999@auib.edu.iq
SUMMARY:يوم الجيش (يوم الجيش (الجامعة مفتوحة)
DESCRIPTION:
URL:https://auib.edu.iq/ar/event/%d9%8a%d9%88%d9%85-%d8%a7%d9%84%d8%ac%d9%8a%d8%b4-%d9%8a%d9%88%d9%85-%d8%a7%d9%84%d8%ac%d9%8a%d8%b4-%d8%a7%d9%84%d8%ac%d8%a7%d9%85%d8%b9%d8%a9-%d9%85%d9%81%d8%aa%d9%88%d8%ad%d8%a9/
CATEGORIES:التقويم الأكاديمي
END:VEVENT
BEGIN:VEVENT
DTSTART;TZID=Asia/Baghdad:20250106T080000
DTEND;TZID=Asia/Baghdad:20250106T170000
DTSTAMP:20260425T222036
CREATED:20241127T170916Z
LAST-MODIFIED:20241127T170916Z
UID:7802-1736150400-1736182800@auib.edu.iq
SUMMARY:توجيه الطلاب - COP
DESCRIPTION:
URL:https://auib.edu.iq/ar/event/%d8%aa%d9%88%d8%ac%d9%8a%d9%87-%d8%a7%d9%84%d8%b7%d9%84%d8%a7%d8%a8-cop/
CATEGORIES:التقويم الأكاديمي
END:VEVENT
END:VCALENDAR