BEGIN:VCALENDAR
VERSION:2.0
PRODID:-//The American University of Iraq – Baghdad (AUIB) - ECPv6.15.20//NONSGML v1.0//EN
CALSCALE:GREGORIAN
METHOD:PUBLISH
X-ORIGINAL-URL:https://auib.edu.iq/ar/
X-WR-CALDESC:Events for The American University of Iraq – Baghdad (AUIB)
REFRESH-INTERVAL;VALUE=DURATION:PT1H
X-Robots-Tag:noindex
X-PUBLISHED-TTL:PT1H
BEGIN:VTIMEZONE
TZID:Asia/Baghdad
BEGIN:STANDARD
TZOFFSETFROM:+0300
TZOFFSETTO:+0300
TZNAME:+03
DTSTART:20230101T000000
END:STANDARD
END:VTIMEZONE
BEGIN:VEVENT
DTSTART;VALUE=DATE:20241221
DTEND;VALUE=DATE:20241222
DTSTAMP:20260425T160759
CREATED:20240624T160246Z
LAST-MODIFIED:20240624T160246Z
UID:5952-1734739200-1734825599@auib.edu.iq
SUMMARY:انتهاء الفصل الدراسي الخريفي
DESCRIPTION:
URL:https://auib.edu.iq/ar/event/%d8%a7%d9%86%d8%aa%d9%87%d8%a7%d8%a1-%d8%a7%d9%84%d9%81%d8%b5%d9%84-%d8%a7%d9%84%d8%af%d8%b1%d8%a7%d8%b3%d9%8a-%d8%a7%d9%84%d8%ae%d8%b1%d9%8a%d9%81%d9%8a/
CATEGORIES:التقويم الأكاديمي
END:VEVENT
END:VCALENDAR