BEGIN:VCALENDAR
VERSION:2.0
PRODID:-//The American University of Iraq – Baghdad (AUIB) - ECPv6.15.20//NONSGML v1.0//EN
CALSCALE:GREGORIAN
METHOD:PUBLISH
X-WR-CALNAME:The American University of Iraq – Baghdad (AUIB)
X-ORIGINAL-URL:https://auib.edu.iq/ar/
X-WR-CALDESC:Events for The American University of Iraq – Baghdad (AUIB)
REFRESH-INTERVAL;VALUE=DURATION:PT1H
X-Robots-Tag:noindex
X-PUBLISHED-TTL:PT1H
BEGIN:VTIMEZONE
TZID:Asia/Baghdad
BEGIN:STANDARD
TZOFFSETFROM:+0300
TZOFFSETTO:+0300
TZNAME:+03
DTSTART:20230101T000000
END:STANDARD
END:VTIMEZONE
BEGIN:VEVENT
DTSTART;VALUE=DATE:20240818
DTEND;VALUE=DATE:20240819
DTSTAMP:20260425T213607
CREATED:20240624T152805Z
LAST-MODIFIED:20240624T152805Z
UID:5966-1723939200-1724025599@auib.edu.iq
SUMMARY:عودة أعضاء هيئة التدريس إلى ثنائيات داخل الحرم الجامعي
DESCRIPTION:
URL:https://auib.edu.iq/ar/event/%d8%b9%d9%88%d8%af%d8%a9-%d8%a3%d8%b9%d8%b6%d8%a7%d8%a1-%d9%87%d9%8a%d8%a6%d8%a9-%d8%a7%d9%84%d8%aa%d8%af%d8%b1%d9%8a%d8%b3-%d8%a5%d9%84%d9%89-%d8%ab%d9%86%d8%a7%d8%a6%d9%8a%d8%a7%d8%aa-%d8%af%d8%a7/
CATEGORIES:التقويم الأكاديمي
END:VEVENT
END:VCALENDAR