BEGIN:VCALENDAR
VERSION:2.0
PRODID:-//The American University of Iraq – Baghdad (AUIB) - ECPv6.15.20//NONSGML v1.0//EN
CALSCALE:GREGORIAN
METHOD:PUBLISH
X-WR-CALNAME:The American University of Iraq – Baghdad (AUIB)
X-ORIGINAL-URL:https://auib.edu.iq/ar/
X-WR-CALDESC:Events for The American University of Iraq – Baghdad (AUIB)
REFRESH-INTERVAL;VALUE=DURATION:PT1H
X-Robots-Tag:noindex
X-PUBLISHED-TTL:PT1H
BEGIN:VTIMEZONE
TZID:Asia/Baghdad
BEGIN:STANDARD
TZOFFSETFROM:+0300
TZOFFSETTO:+0300
TZNAME:+03
DTSTART:20230101T000000
END:STANDARD
END:VTIMEZONE
BEGIN:VEVENT
DTSTART;VALUE=DATE:20240811
DTEND;VALUE=DATE:20240816
DTSTAMP:20260425T213620
CREATED:20231123T143654Z
LAST-MODIFIED:20231123T143654Z
UID:5969-1723334400-1723766399@auib.edu.iq
SUMMARY:فترة الامتحان النهائي
DESCRIPTION:
URL:https://auib.edu.iq/ar/event/%d9%81%d8%aa%d8%b1%d8%a9-%d8%a7%d9%84%d8%a7%d9%85%d8%aa%d8%ad%d8%a7%d9%86-%d8%a7%d9%84%d9%86%d9%87%d8%a7%d8%a6%d9%8a/
CATEGORIES:التقويم الأكاديمي
END:VEVENT
END:VCALENDAR